BEGIN:VCALENDAR
VERSION:2.0
CALSCALE:GREGORIAN
PRODID:-//MyApp//Calendar 1.0//EN
BEGIN:VEVENT
METHOD:PUBLISH
UID:56562@regionalniportaly.cz
DTSTAMP:20260424T202305Z
DTSTART;VALUE=DATE:20250901
DTEND;VALUE=DATE:20250902
SUMMARY:Ocean and Flame 2
DESCRIPTION:OCEAN AND FLAMENeomezený raut mořských plodů\, asijských specialit a exotických chutí!1. 9. 2025 od 18:00Viet Garden\, Uherské HradištěZažijte výjimečný letní večer plný vůní a chutí dálného východu a oceánu!Na co se můžete těšit:Mořské plody – čerstvé ústřice\, krevety\, slávky\, kalamáry\, chobotnice\, lososAsijské speciality – grilované maso\, wok pokrmy\, smažené dobrotyPředkrmy – lehké asijské chuťovky\, jarní závitkyČerstvé ovoce – exotické druhy i klasika na osvěženíCena za dospělého: 899&nbsp\;KčDěti do 6 let zdarma | 6–12 let: 449 KčKapacita je omezenáRezervace místa je automaticky se zakoupenou vstupenkou.
LOCATION:Uherské Hradiště
END:VEVENT
END:VCALENDAR