BEGIN:VCALENDAR
VERSION:2.0
CALSCALE:GREGORIAN
PRODID:-//MyApp//Calendar 1.0//EN
BEGIN:VEVENT
METHOD:PUBLISH
UID:56658@regionalniportaly.cz
DTSTAMP:20260424T203124Z
DTSTART;VALUE=DATE:20250906
DTEND;VALUE=DATE:20250907
SUMMARY:Už jsme doma 40 let + Ty Syčáci
DESCRIPTION:Kapela Už jsme doma\, nedílná a respektovaná součást světové avantgardní scény\, slaví letos 40 let na scéně.UJD ve zkratceŠestého července 1985 se v Praze na parníku Vltava odehrál první koncert skupiny Už jsme doma. Je to tedy letos rovných 40 let. Za ty čtyři dekády skupina vydala 8 řadových desek\, několik vlastních kompilací a mimořádných desek\, desítky účastí na kompilacích po celém světě\, odehrála více než 3000 koncertů ve 46 zemích na 4 kontinentech. Skupina spolupracovala s mnoha světovými hudebníky (mimo jiné The Residents nebo Renaldo and the Loaf)\, odehrála několik koncertů se symfonickým orchestrem\, spolupracovala s divadlem i s filmem.Ty Syčáci v čele s legendárním Petrem Vášou nedávno oslavili dvacet pět let své existence. K této příležitosti sestavili speciální výroční program\, ve kterém posluchače provedou postupně všemi svými alby a přidají i ukázky z chystané lehce feministické psychodetektivky "Dlouhá\, široká a bystrozraká".
LOCATION:Uherský Brod
END:VEVENT
END:VCALENDAR