BEGIN:VCALENDAR
VERSION:2.0
CALSCALE:GREGORIAN
PRODID:-//MyApp//Calendar 1.0//EN
BEGIN:VEVENT
METHOD:PUBLISH
UID:56668@regionalniportaly.cz
DTSTAMP:20260425T010217Z
DTSTART;VALUE=DATE:20250906
DTEND;VALUE=DATE:20250907
SUMMARY:Vinobraní v přístavu
DESCRIPTION:Zveme vás na den plný vína\, hudby a pohody!Kdy? sobota 6. září 2025Kde? Bistro Dog in Dock\, přístav Baťova kanálu\, Veselí nad MoravouNa co se můžete těšit:- víno a burčák- grilování a občerstvení- farmářské trhy- cimbálová muzika a folklorní vystoupení- hlavní host večera\, zpěvák Ondřej Ruml- závěrečný DJ setPřijďte si užít vinobraní s výhledem na Baťův kanál. Vhodné pro rodiny\, turisty\, cyklisty a přátelé dobrého jídla a pití.
LOCATION:Veselí nad Moravou
END:VEVENT
END:VCALENDAR