BEGIN:VCALENDAR
VERSION:2.0
CALSCALE:GREGORIAN
PRODID:-//MyApp//Calendar 1.0//EN
BEGIN:VEVENT
METHOD:PUBLISH
UID:56687@regionalniportaly.cz
DTSTAMP:20260424T203145Z
DTSTART;VALUE=DATE:20250901
DTEND;VALUE=DATE:20250902
SUMMARY:Sushi Time 4+  Neomezený Sushi Raut
DESCRIPTION:SUSHI TIME 4+&nbsp\;Neomezený sushi bufet ve Viet Gardenu!Abychom Vám zajistili maximální kvalitu\, rychlý servis a co největší spokojenost\, rozdělili jsme akci na dvě termínové varianty každý měsíc. Limitujeme kapacitu na 50 hostů na jednu akci\, díky čemuž bude k dispozici více míst k sezení\, rychlejší obsluha a plynulejší provoz – včetně objednávek nápojů a kompletního servisu u stolu. Žádné fronty u sushi!Přijď si užít večer plný čerstvého sushi\, lahodných předkrmů a sladkého ovoce v jedinečné atmosféře\, tentokrát v uzavřené restauraci určené jen pro hosty s platnou vstupenkou!Kdy? Pondělí 1. 9. 2025Čas? 18:00 – 20:30Kde? Viet Garden\, Hradební 1198\, Uherské HradištěCena? 699 Kč dospělí / 350 Kč děti 6–12 letOd 18:00 proběhne odbavení online i klasických vstupenek. Hosté se pohodlně usadí\, objednají si nápoje a připraví se na gurmánský zážitek.V 18:30-20:30 bude zpřístupněn raut s neomezeným sushi\, předkrmy\, ovocem a nově také ledovým čajem\, který si každý může načepovat sám dle chuti.Se vstupenkou máš automaticky rezervaci stolu a jisté místo.Restaurace bude po celou dobu akce uzavřena pro veřejnost\, takže tě čeká ničím nerušený zážitek.Kapacita je omezená\, tak si své místo kup&nbsp\;co nejdřív!Nepropásni skvělou příležitost ochutnat to nejlepší ze sushi a zažít výjimečný večer ve stylovém prostředí.&nbsp\;Chceš více informací?Neváhej zavolat na tel. 776 633 138Těšíme se na tebe!Tým Viet GardenNejmodernější Asijská Restaurace v Uherském Hradišti
LOCATION:Uherské Hradiště
END:VEVENT
END:VCALENDAR