BEGIN:VCALENDAR
VERSION:2.0
CALSCALE:GREGORIAN
PRODID:-//MyApp//Calendar 1.0//EN
BEGIN:VEVENT
METHOD:PUBLISH
UID:56731@regionalniportaly.cz
DTSTAMP:20260425T023941Z
DTSTART;VALUE=DATE:20250815
DTEND;VALUE=DATE:20250816
SUMMARY:Retropárty s koncertem skupiny Lunetic
DESCRIPTION:Město Bzenec Vás v rámci Bzenecké pouťe 2025 srdečně zve na&nbsp\;retropárty s koncertem&nbsp\;skupiny&nbsp\;Lunetic.Koncert se koná v amfiteátru zámeckého parku v Bzenci.&nbsp\;Těšíme se na Vás!
LOCATION:Bzenec
END:VEVENT
END:VCALENDAR