BEGIN:VCALENDAR
VERSION:2.0
CALSCALE:GREGORIAN
PRODID:-//MyApp//Calendar 1.0//EN
BEGIN:VEVENT
METHOD:PUBLISH
UID:56732@regionalniportaly.cz
DTSTAMP:20260424T202336Z
DTSTART;VALUE=DATE:20250817
DTEND;VALUE=DATE:20250818
SUMMARY:Vystoupení Kája a Bambuláček
DESCRIPTION:Město Bzenec Vás v rámci Bzenecké pouťe 2025 srdečně zve na vystoupení Káji&nbsp\;a Bambuláčka.Vystoupení&nbsp\;se koná v amfiteátru zámeckého parku v Bzenci.&nbsp\;Těšíme se na Vás!
LOCATION:Bzenec
END:VEVENT
END:VCALENDAR