BEGIN:VCALENDAR
VERSION:2.0
CALSCALE:GREGORIAN
PRODID:-//MyApp//Calendar 1.0//EN
BEGIN:VEVENT
METHOD:PUBLISH
UID:56733@regionalniportaly.cz
DTSTAMP:20260424T184041Z
DTSTART;VALUE=DATE:20251205
DTEND;VALUE=DATE:20251206
SUMMARY:Visací Zámek
DESCRIPTION:Nejkultovnější punková kapela a stále ve stejné sestavě !
LOCATION:Uherské Hradiště
END:VEVENT
END:VCALENDAR