BEGIN:VCALENDAR
VERSION:2.0
CALSCALE:GREGORIAN
PRODID:-//MyApp//Calendar 1.0//EN
BEGIN:VEVENT
METHOD:PUBLISH
UID:56769@regionalniportaly.cz
DTSTAMP:20260421T220930Z
DTSTART;VALUE=DATE:20260731
DTEND;VALUE=DATE:20260801
SUMMARY:Beseda u Bigbítu 2026
DESCRIPTION:&nbsp\; &nbsp\; &nbsp\; &nbsp\; &nbsp\; &nbsp\; &nbsp\; 1. vlna prodeje 1050\,- Kč —&nbsp\;VYPRODANÁ&nbsp\; &nbsp\; &nbsp\; &nbsp\; &nbsp\; &nbsp\; &nbsp\; 2. vlna prodeje 1150\,- Kč —&nbsp\;VYPRODANÁ&nbsp\; &nbsp\; &nbsp\; &nbsp\; &nbsp\; &nbsp\; &nbsp\; 3. vlna prodeje 1250\,- Kč —&nbsp\;VYPRODANÁ&nbsp\; &nbsp\;&nbsp\; &nbsp\; &nbsp\; &nbsp\; &nbsp\; &nbsp\; &nbsp\;&nbsp\;V prodeji 4. vlna vstupenek 1350\,- Kč&nbsp\;– Zbývá necelých&nbsp\;100 ks&nbsp\;&nbsp\; &nbsp\; &nbsp\; &nbsp\; &nbsp\; &nbsp\; &nbsp\;5. vlna předprodeje za 1450\,- Kč coming soon ⏱️&nbsp\; &nbsp\; &nbsp\; &nbsp\; &nbsp\; &nbsp\; &nbsp\; &nbsp\; &nbsp\;Svátek pro všechny milovníky nezávislé hudební scény. 33. ročník (nejen) hudebního festivalu v krásném prostředí areálu Topolového hájku v Tasově u Veselí nad Moravou.2 dny\, 3 scény\, více jak 50 dramaturgických položek.Festival\, kde je radost z objevování stejně důležitá jako bezpečí\, komfort a blízkost. Kurátorovaný výběr toho nejlepšího z české\, slovenské i zahraniční nezávislé hudby. Komunita a péče bez front i osvěžení ve splavu Veličky – to všechno je Beseda. Festival\, kam se jezdí prožít něco výjimečného.&nbsp\;
LOCATION:Tasov
END:VEVENT
END:VCALENDAR