BEGIN:VCALENDAR
VERSION:2.0
CALSCALE:GREGORIAN
PRODID:-//MyApp//Calendar 1.0//EN
BEGIN:VEVENT
METHOD:PUBLISH
UID:56773@regionalniportaly.cz
DTSTAMP:20260424T215827Z
DTSTART;VALUE=DATE:20251004
DTEND;VALUE=DATE:20251005
SUMMARY:SPS - punk & movie tour 2025
DESCRIPTION:Připravili jsme pro Vás 12 speciálních podzimních koncertů s názvem Punk &amp\; Film Turné 2025. Uvidíte promítání našeho dokumentu\, který jsme natáčeli v letech 2023 - 2024. K tomu Vám zahrajeme delší koncertní set\, který bude průřez celou naší tvorbou.
LOCATION:Uherské Hradiště
END:VEVENT
END:VCALENDAR