BEGIN:VCALENDAR
VERSION:2.0
CALSCALE:GREGORIAN
PRODID:-//MyApp//Calendar 1.0//EN
BEGIN:VEVENT
METHOD:PUBLISH
UID:56774@regionalniportaly.cz
DTSTAMP:20260424T202326Z
DTSTART;VALUE=DATE:20250921
DTEND;VALUE=DATE:20250922
SUMMARY:LiStOVáNí: Herec
DESCRIPTION:Skutečný příběh\, který se může stát i vám! Jan je známý\, slávou zkažený i unavený herec. Když mu v telefonu omylem přistane smska z neznámého čísla\, využije toho k nezávaznému klábosení s dívkou\, která o něm nic neví a on si tak nemusí na nic hrát! Konverzace s bystrou a vtipnou Martinou se ale brzy změní v napínavou psychologickou šarádu a tvrdý stalking. Kdo z těch dvou je lepším hercem\, kdo si tu s kým hraje a kdo je jen hračkou?&nbsp\;
LOCATION:Veselí nad Moravou
END:VEVENT
END:VCALENDAR