BEGIN:VCALENDAR
VERSION:2.0
CALSCALE:GREGORIAN
PRODID:-//MyApp//Calendar 1.0//EN
BEGIN:VEVENT
METHOD:PUBLISH
UID:56991@regionalniportaly.cz
DTSTAMP:20260424T203135Z
DTSTART;VALUE=DATE:20251025
DTEND;VALUE=DATE:20251026
SUMMARY:Festival sborového zpěvu Uherský Brod
DESCRIPTION:Festival sborového zpěvu Uherský Brod\, který je pořádán Unií českých pěveckých sborů Zlínský a Jihomoravský kraj\, je založen jako mezinárovní a nesoutěžní festival\, který má za cíl představit krásu a rozmanitost sborové tvorby.
LOCATION:Uherský Brod
END:VEVENT
END:VCALENDAR