BEGIN:VCALENDAR
VERSION:2.0
CALSCALE:GREGORIAN
PRODID:-//MyApp//Calendar 1.0//EN
BEGIN:VEVENT
METHOD:PUBLISH
UID:57023@regionalniportaly.cz
DTSTAMP:20260424T190100Z
DTSTART;VALUE=DATE:20250926
DTEND;VALUE=DATE:20250927
SUMMARY:DNB RAVE Vol.5
DESCRIPTION:Již po páté se můžete těšit na večer\, kdy DNB bude znít od startu až do konce. DNB RAVE VOL.5 je tady!!LINE UP:&nbsp\; &nbsp\; &nbsp\; &nbsp\; &nbsp\;&nbsp\;21:00 - 22:00 - Dj set22:00 - 23:00 - YANNICK23:00 - 24:00 - KAIRA (DARKSHIRE CZ)00:00 - 01:00 - PRDK (DARKSHIRE CZ)01:00 - 02:00 - SLUG02:00 - 03:00 - MILA 20703:00 - 05:00 - SLUG VS YANNICKVstup 16+Vstupné na místě 150 Kč / předprodej za 100 Kč&nbsp\;
LOCATION:Uherské Hradiště
END:VEVENT
END:VCALENDAR