BEGIN:VCALENDAR
VERSION:2.0
CALSCALE:GREGORIAN
PRODID:-//MyApp//Calendar 1.0//EN
BEGIN:VEVENT
METHOD:PUBLISH
UID:57038@regionalniportaly.cz
DTSTAMP:20260424T172817Z
DTSTART;VALUE=DATE:20251017
DTEND;VALUE=DATE:20251018
SUMMARY:Vykřičníky tour 2025 - The Fialky - Vision Days
DESCRIPTION:Na podzim se spojí The Fialky a Vision Days – první přivezou svůj rozjetej punk 77\, druzí dorazí s nakažlivým mixem punku a ska. Očekávejte našlapaný sety plný osvědčených hitů i čerstvých novinek z aktuálních alb a singlů.Pogování\, pivo\, energie\, zábava – prostě večer\, co tě zvedne ze židle!Host: Štamgasti (Oi! Punk Brno)
LOCATION:Uherské Hradiště
END:VEVENT
END:VCALENDAR