BEGIN:VCALENDAR
VERSION:2.0
CALSCALE:GREGORIAN
PRODID:-//MyApp//Calendar 1.0//EN
BEGIN:VEVENT
METHOD:PUBLISH
UID:57044@regionalniportaly.cz
DTSTAMP:20260424T215757Z
DTSTART;VALUE=DATE:20251026
DTEND;VALUE=DATE:20251027
SUMMARY:Stezka odvahy / Uherské Hradiště
DESCRIPTION:Stezka odvahy míří do UHERSKÉHO HRADIŠTĚ!🎃👻Potkáte ty nejstrašidelnější pohádkové a nadpřirozené bytosti\, které otestují vaši odvahu a dovednosti. Připravte se na temná zákoutí a lehké tematické úkoly pro děti!Těšíme se na všechny malé i velké odvážlivce!&nbsp\;Vhodné pro děti 3 - 10 let📅 Datum: 26.10. 2025⏰ Čas: Najdete na své zakoupené vstupence📍 Místo: Smetanovy sady\, Uherské Hradiště (ul. SOKOLOVSKÁ)🚩 Start: https://maps.app.goo.gl/CAtxfxae4nyjPuF58Každých 5 minut pouštíme na stezku skupinku přibližně 5 dětí s rodiči\, které budou mezi sebou soupeřit v odvaze a dovednostech.Zakoupením vstupenky berete na vědomí a souhlasíte\, že vstupujete na trasu výhradně na vlastní nebezpečí. Za svou bezpečnost a bezpečnost svých dětí zodpovídáte sami.&nbsp\;
LOCATION:Uherské Hradiště
END:VEVENT
END:VCALENDAR