BEGIN:VCALENDAR
VERSION:2.0
CALSCALE:GREGORIAN
PRODID:-//MyApp//Calendar 1.0//EN
BEGIN:VEVENT
METHOD:PUBLISH
UID:57110@regionalniportaly.cz
DTSTAMP:20260424T213456Z
DTSTART;VALUE=DATE:20251024
DTEND;VALUE=DATE:20251025
SUMMARY:1+1=3 Divadlo Strážnice
DESCRIPTION:Malé divadlo komedieAutor: Ray Cooney Režie: Ladislav Kolář\n \nHrají: Jiří Ressler\, Tomáš Sagher\, Sandra Riedlová\, Jana Štvrtecká / Pavla Vitázková / Erika Kubálková\, Jan Brožek / Robert Musialek\, Karel Mišurec\, Jakub Uličník / Jiří Mach /Jakub Przebinda\n John Brown je taxikář\, kterému se díky přísně dodržovanému harmonogramu daří léta utajovat skutečnost\, že má dvě manželky a že vede dvojí život. Jednoho dne se ale vše naruší... a rozjíždí se kolotoč lží\, do kterých se stále více zamotává. Když se rozhodne přiznat pravdu\, nikdo mu nevěří. Opravdu vynikající komedie\, která vás nenechá vydechnout.\n \nVstupné: 300\,-\nVstupenky v prodeji také v KD Strážničan nebo online na www.kd-straznice.cz. \n 
LOCATION:Strážnice
END:VEVENT
END:VCALENDAR