BEGIN:VCALENDAR
VERSION:2.0
CALSCALE:GREGORIAN
PRODID:-//MyApp//Calendar 1.0//EN
BEGIN:VEVENT
METHOD:PUBLISH
UID:57112@regionalniportaly.cz
DTSTAMP:20260424T172629Z
DTSTART;VALUE=DATE:20251003
DTEND;VALUE=DATE:20251004
SUMMARY:Opravna duší - folklorem probarvená
DESCRIPTION:Hudebně-literární pořad – Martiny Pressové a Dáši Zázvůrkové\, vystoupí: Anna Habancová Pojďte spolu s námi zažít večer\, kdy vám opravíme vaše duše.\n \nVstupné: 250\,- v předprodeji\, 300 Kč na místě\nVstupenky v předprodeji online nebo v KD Strážničan. \n \nPojďte spolu s námi zažít večer\, kdy vám opravíme vaše dušeMáte manžela? Máte manželku? Jste svobodní? Jste málo šťastní\, nebo příliš bezstarostní? Cítíte se někdy sami\, nesnášíte nakupování\, nebo trpíte nadváhou? Máme lék na mnoho vašich starostí. A jak to děláme? Donutíme vás na ně během našeho pořadu zapomenout! Na každou vaši drobnou starost máme náplast ve formě duetu\, fejetonu\, stand upu nebo sólového šansonu. To vše z naší autorské dílny a s notnou dávkou humoru.
LOCATION:Strážnice
END:VEVENT
END:VCALENDAR