BEGIN:VCALENDAR
VERSION:2.0
CALSCALE:GREGORIAN
PRODID:-//MyApp//Calendar 1.0//EN
BEGIN:VEVENT
METHOD:PUBLISH
UID:57113@regionalniportaly.cz
DTSTAMP:20260424T202245Z
DTSTART;VALUE=DATE:20251017
DTEND;VALUE=DATE:20251018
SUMMARY:James Harries
DESCRIPTION:James Harries: Britský zlatý hlas míří do Strážnice\nVstupné: 200\,- v předprodeji\, 250 Kč na místě\nVstupenky v prodeji online a také v KD Strážničan.\n \nJeho hlas bývá přirovnáván k „zlatému sametu“\, kritici ho přezdívají „Ryan Adams na steroidech“ a čeští fanoušci ho milují nejen pro jeho hudbu\, ale i pro jeho bezprostřednost a šarm. James Harries\, britský písničkář žijící v Praze\, přijíždí do Strážnice se svým jedinečným koncertem.\nJames Harries se narodil v Manchesteru\, ale už více než dvě desetiletí patří k výrazným osobnostem české hudební scény. Jeho písně se pohybují mezi folkem\, blues\, indie rockem a melancholickou akustikou\, která jde rovnou na dřeň emocí. Zazpíval si v legendárním seriálu Pustina\, složil hudbu k několika filmům a jeho koncerty jsou pověstné svou intimitou a autenticitou.\nNaživo dokáže Harries publikum vtáhnout do světa křehkých melodií i silných refrénů – jeho projev je syrový\, hluboký a neuvěřitelně přesvědčivý. Z poslední tvorby zazní písně z alb Superstition či Hiraeth\, včetně oceňovaného singlu Diamond Girl\, který rotuje v éteru českých i zahraničních rádií.\nPokud hledáte večer plný emocí\, výjimečné hudby a charismatu\, které se nedá naučit – James Harries ve Strážnici je přesně tím koncertem\, který nechcete minout.
LOCATION:Strážnice
END:VEVENT
END:VCALENDAR