BEGIN:VCALENDAR
VERSION:2.0
CALSCALE:GREGORIAN
PRODID:-//MyApp//Calendar 1.0//EN
BEGIN:VEVENT
METHOD:PUBLISH
UID:57277@regionalniportaly.cz
DTSTAMP:20260424T215251Z
DTSTART;VALUE=DATE:20250907
DTEND;VALUE=DATE:20250908
SUMMARY:PO-HODOVÁ NEDĚLA
DESCRIPTION:KLASICKÁ PO-HODOVÁ NEDĚLA.12:PIET A CM PAJTÁŠ.START 19:00
LOCATION:Nivnice
END:VEVENT
END:VCALENDAR