BEGIN:VCALENDAR
VERSION:2.0
CALSCALE:GREGORIAN
PRODID:-//MyApp//Calendar 1.0//EN
BEGIN:VEVENT
METHOD:PUBLISH
UID:57278@regionalniportaly.cz
DTSTAMP:20260424T184742Z
DTSTART;VALUE=DATE:20251025
DTEND;VALUE=DATE:20251026
SUMMARY:Víno\, co zpívá - Cimbál\, co hraje
DESCRIPTION:Víno\, co zpívá – cimbál\, co hrajePřijďte si užít jedinečnýa&nbsp\;večer plný folkloru\, vína a přátelské atmosféry!&nbsp\;Sobota 25. října 2025Začátek v 17:00Viet Garden\, Hradební 1198\, Uherské Hradiště&nbsp\;Na co se můžete těšit?Cimbálová muzika Džbánek rozezní restauraci a roztančí vás svými tóny.Komentovaná degustace vína je zahrnuta v ceně vstupného.Během večera proběhne vinný mini kvíz o hodnotné ceny.&nbsp\;Vstupné: 299 Kč / osoba (1. vlna)Vstupné: 399 Kč / osoba (2.vlna) od 25.9.2025Vstupenky zakoupíte na www.smsticket.cz nebo přímo v restauraci Viet Garden.&nbsp\;Přijďte ochutnat víno\, které zpívá\, a poslechnout cimbál\, který hraje.Těšíme se na vás!&nbsp\;
LOCATION:Uherské Hradiště
END:VEVENT
END:VCALENDAR