BEGIN:VCALENDAR
VERSION:2.0
CALSCALE:GREGORIAN
PRODID:-//MyApp//Calendar 1.0//EN
BEGIN:VEVENT
METHOD:PUBLISH
UID:57392@regionalniportaly.cz
DTSTAMP:20260422T044350Z
DTSTART;VALUE=DATE:20260214
DTEND;VALUE=DATE:20260215
SUMMARY:Pocta Zuzaně Navarové
DESCRIPTION:Písně od kapel Nerez i Koa zazní v podání šestičlenné sestavy v čele s Bárou Červinkovou.Kapela už 8 let jezdí po celé republice a sklízí velké úspěchy svou osobitostí a zároveň dovedností připodobnit se originálu.“Snažíme o co nejvěrnější podání písniček\, k autorům chováme velký respekt a s některými jsme i přátelé. Je smutné\, že tu Zuzka není a ty písničky si zaslouží žít dál. Vše děláme s velkou pokorou a láskou.”Přijďte si poslechnout své oblíbené písničky\, zavzpomínat si a třeba i zazpívat a zatančit.Barbora Červinková – zpěv\, perkuseTonda Jína – zpěv\, bicí\, perkuseTomáš Pecka – zpěv\, kytary\, cello\, pianoNick Arthofer – zpěv\, trubkaHonza Neruda – zpěv\, basaStanda Šedivý – zpěv\, kytara
LOCATION:Uherské Hradiště
END:VEVENT
END:VCALENDAR