BEGIN:VCALENDAR
VERSION:2.0
CALSCALE:GREGORIAN
PRODID:-//MyApp//Calendar 1.0//EN
BEGIN:VEVENT
METHOD:PUBLISH
UID:57538@regionalniportaly.cz
DTSTAMP:20260424T200910Z
DTSTART;VALUE=DATE:20251011
DTEND;VALUE=DATE:20251012
SUMMARY:Slovácké setkání
DESCRIPTION:Dechová hudba Nivničanka pořádá první ročník společenského večera s názvem Slovácké setkání 2025.Vystoupí dechové hudby Nivničanka\, Žadovjáci\, Lieskovanka a cimbálová muzika Muzikaša.&nbsp\;
LOCATION:Nivnice
END:VEVENT
END:VCALENDAR