BEGIN:VCALENDAR
VERSION:2.0
CALSCALE:GREGORIAN
PRODID:-//MyApp//Calendar 1.0//EN
BEGIN:VEVENT
METHOD:PUBLISH
UID:57861@regionalniportaly.cz
DTSTAMP:20260424T215456Z
DTSTART;VALUE=DATE:20251025
DTEND;VALUE=DATE:20251026
SUMMARY:Divadlo Blic - Na správné adrese
DESCRIPTION:Klub sportu a kultury Vlčnov srdečně zve na divadelní představení Na správné adrese\, se kterou se představí Divadlo Blic z Ostrožské Nové Vsi. Přijďte si užít originální hru autora Marca&nbsp\;Camolettiho\, ve Francii nesmírně úspěšnou&nbsp\;komedii\, nabízející&nbsp\;řadu vtipných situací\, dialogů a jistou pikantnost\, kterou přitom zvládá s pověstným francouzským šarmem.&nbsp\;Představení začíná v 19 hodin\, cena vstupenek 200\,- Kč.&nbsp\;
LOCATION:Vlčnov
END:VEVENT
END:VCALENDAR