BEGIN:VCALENDAR
VERSION:2.0
CALSCALE:GREGORIAN
PRODID:-//MyApp//Calendar 1.0//EN
BEGIN:VEVENT
METHOD:PUBLISH
UID:57894@regionalniportaly.cz
DTSTAMP:20260425T040249Z
DTSTART;VALUE=DATE:20250919
DTEND;VALUE=DATE:20250920
SUMMARY:The Black Hole  /USA/
DESCRIPTION:Vítězové International Blues Challenge pro Arizonu a a nositelé titulu The Best blues band in Arizona 2023 ! Nezmeškejte!The Black Hole vznikli v roce 2012 jako koncertní a nahrávací kapela mezinárodní bluesové ikony Carvina Jonese. Za dobu svého trvání spolupracovali s nejlepšími bluesovými umělci z celého světa\, odehráli přes 3000 vystoupení ve 43 zemích na pěti kontinentech. Vynikající rytmika\, kterou pochvalně zmínil i legendární bubeník Billy Cobham. Renomovaný Chicago Blues Guide Magazine\, USA o The Black Hole napsal: "Unikátní a vzrušující umělci\, díky nimž se blues znovu cítí nebezpečný".Connor Kelly - guitar\, vocal\, Joe Edwards - bass\, Levi Velasquez - drumswww.theblackholeblues.comhttps://www.youtube.com/watch?v=h7w4BntabxEhttps://www.youtube.com/watch?v=c5GWw4smeREhttps://www.youtube.com/watch?v=z6W6Y5OhAOg
LOCATION:Uherský Brod
END:VEVENT
END:VCALENDAR