BEGIN:VCALENDAR
VERSION:2.0
CALSCALE:GREGORIAN
PRODID:-//MyApp//Calendar 1.0//EN
BEGIN:VEVENT
METHOD:PUBLISH
UID:58137@regionalniportaly.cz
DTSTAMP:20260424T203115Z
DTSTART;VALUE=DATE:20251018
DTEND;VALUE=DATE:20251019
SUMMARY:SJU a Potkat Lišku na Poli designu
DESCRIPTION:POTKAT LIŠKUIntimní performance pro 20 diváků&nbsp\;Dělat si malé pohlednice z míst\, kudy chodím. Orámovat kus krajiny a uložit do paměti. V trávě sbírat suvenýry z cest. Mít jich plné kapsy. Zaznamenávat cesty\, shromažďovat zvuky\, konzervovat vzpomínky. Vyprávět příběhy.Intermediální performance Venduly Tomšů a Johany Pockové propojuje storytelling\, tanec a objektové divadlo.SJU&nbsp\;SJU je nové jméno na slovenské &amp\; české hudební scéně\, jejíž repertoár je plný hravé a taneční elektroniky\, barevných vizuálů\, kostýmů a projekcí.Zpěvačka a hudebnice\, která svou hudbu popisuje jako „krémové elektronické víry a meandry\, pronášené v dětském hávu hravosti a nevinnosti.SJU má též svojí vlastní módní značku @BYSJU a vyrábí klobouky pro Will.I.Am \, The Black Eyed Peas\, JUNGLE anebo Gorillaz.&nbsp\;
LOCATION:Bílovice
END:VEVENT
END:VCALENDAR