BEGIN:VCALENDAR
VERSION:2.0
CALSCALE:GREGORIAN
PRODID:-//MyApp//Calendar 1.0//EN
BEGIN:VEVENT
METHOD:PUBLISH
UID:58838@regionalniportaly.cz
DTSTAMP:20260422T103947Z
DTSTART;VALUE=DATE:20251220
DTEND;VALUE=DATE:20251221
SUMMARY:Štěpánští koledníci
DESCRIPTION:Štěpánští koledníci jsou především blízcí přátelé\, kteří spolu rádi hrají\, zpívají a mají k sobě blízko hlavně po lidské stránce\, na čem si také zakládají. Tuto přátelskou atmosféru se snaží dále předávat svým posluchačům i na koncertech. Název uskupení vznikl při tradici koledování na svátek svatého Štěpána o Vánocích v roce 2002.Současný repertoár dalece překračuje hranice lidových koled\, ke kterým se ale Štěpánští Koledníci v různých obměnách rádi vrací. V jejich písních tak může posluchač slyšet prvky folku\, folkloru\, popu a dokonce i jazzu. A právě tato pestrost\, obalená do lidového pojetí hudby\, je pro Štěpánské koledníky tak příznačná a pro diváky tak obohacující. S vřelým přijetím jsou přijímány i nové aranže tradičních koled\, které oslovují nejen svou originalitou\, ale také vysokou instrumentální a vokální úrovní ansámblu. Posluchači oceňují především atmosférukoncertů\, která jim pomáhá „zastavit se“ a zamyslet se nad poselstvím a smyslem Vánoc.
LOCATION:Mikulčice
END:VEVENT
END:VCALENDAR