BEGIN:VCALENDAR
VERSION:2.0
CALSCALE:GREGORIAN
PRODID:-//MyApp//Calendar 1.0//EN
BEGIN:VEVENT
METHOD:PUBLISH
UID:58987@regionalniportaly.cz
DTSTAMP:20260424T131505Z
DTSTART;VALUE=DATE:20251114
DTEND;VALUE=DATE:20251115
SUMMARY:BERLIN MANSON // Dominik Prok // BUFO BUFO Selectors
DESCRIPTION:BERLIN MANSONJedna z nejžádanějších formací české i slovenské alternativní scény přijíždí poprve do klubu Mír !Berlin Manson je slovenská kapela založená zpěvákem Adamem Dragunem a instrumentalistou Patrikem Nagym na začátku pandemie covidu. V roce 2023 se k oběma zakladatelům přidal bubeník Tomáš Tabiš.Od té doby vydala kapela 3 plnohodnotné alba\, poslední novinka Alternative für Disneyland vznikla ve spolupráci s producentem NobodyListenSUPPORT: DOMINIK PROKČlen bratislavského projektu 52 Hertz Whale\, vydal v roce 2023 sólovou desku\, která je vyvrcholením jeho dlouhodobějšího snu o samostatné umělecké realizaci. Album There is no rescue mission\, we are safe. Možná někteří poznáte z nedávného vystoupení na festivalu Beseda u Bigbítu&nbsp\;AFTERPARTY: BUFO BUFO SelectorsSlovenské složení doplní ve svém českém debutu bratislavští dj's BUFO BUFO SELECTORS
LOCATION:Uherské Hradiště
END:VEVENT
END:VCALENDAR