BEGIN:VCALENDAR
VERSION:2.0
CALSCALE:GREGORIAN
PRODID:-//MyApp//Calendar 1.0//EN
BEGIN:VEVENT
METHOD:PUBLISH
UID:58999@regionalniportaly.cz
DTSTAMP:20260424T184231Z
DTSTART;VALUE=DATE:20251102
DTEND;VALUE=DATE:20251103
SUMMARY:BLUES BOY KINGS feat. Jeff Rich (from Status Quo) (UK)
DESCRIPTION:Blues Boy Kings jsou vynikající bluesovou kapelou z anglického Midlands. Vystupují po celé Velké Británii a získávají legie nových fanoušků na každém koncertu\, který odehrají. Což potvrzuje i to\, že v roce 2025 přijíždí do ČR již popáté\, a to tentokrát se speciálním hostem Jeffem Richem (bubeníkem Status Quo).
LOCATION:Uherský Brod
END:VEVENT
END:VCALENDAR