BEGIN:VCALENDAR
VERSION:2.0
CALSCALE:GREGORIAN
PRODID:-//MyApp//Calendar 1.0//EN
BEGIN:VEVENT
METHOD:PUBLISH
UID:59102@regionalniportaly.cz
DTSTAMP:20260424T184651Z
DTSTART;VALUE=DATE:20251212
DTEND;VALUE=DATE:20251213
SUMMARY:Koncert Harafica Jalubí
DESCRIPTION:Harafica – Na prahu VánocHarafica je dynamická muzika z Uherského Hradiště\, známá citlivým propojováním tradic s novými hudebními vlivy. Její koncerty jsou vždy plné energie\, radosti i silné atmosféry.Advent bývá pro mnohé obdobím plným spěchu a shonu. Právě proto je koncert Na prahu Vánoc pozváním k zastavení\, zklidnění a naladění na blížící se svátky.V první části večera zazní úpravy lidových i dalších písní\, které rozezní sál živou náladou. Druhá část se pak ponese v duchu adventních a vánočních melodií\, jež navodí klid a sváteční pohodu.Hudba se tak stává společným prostorem\, kde se můžeme na chvíli nadechnout a otevřít dveře k nejkrásnějším dnům v roce – k Vánocům.
LOCATION:Jalubí
END:VEVENT
END:VCALENDAR