BEGIN:VCALENDAR
VERSION:2.0
CALSCALE:GREGORIAN
PRODID:-//MyApp//Calendar 1.0//EN
BEGIN:VEVENT
METHOD:PUBLISH
UID:59290@regionalniportaly.cz
DTSTAMP:20260421T191914Z
DTSTART;VALUE=DATE:20260515
DTEND;VALUE=DATE:20260516
SUMMARY:Narvan a Našrot
DESCRIPTION:Po mnoha letech uvítáme na podiu otce českého hard core - kapelu NAŠROT\, a to spolu s reinkarnovanou legendou NARVAN!NARVAN - kapela\, jejíž netradiční crossover\, v němž míchala kytary\, funky i pop\, se nesmazatelně zapsala do srdcí všech fanoušků. Když si dnes poslechnete jejich singly L.O.V.E. nebo Kulatej svět\, jde stále o nadčasové skladby. Kariéru kapely smutně utnula tragická nehoda cestou na koncert\, při níž zemřel frontman a zakládající člen Mario Feinberg a kytarista Martin Pokora. Nyní se Narvan vrací\, aby po čtvrtstoletí vzdal koncerty poctu zesnulým spoluhráčům a zároveň představil novou sestavu. Tři původní členy doplnili Tomáš Sobotka a Petr Havlík z třebíčské kapely Jezerel.NAŠROT stylově vycházeli z Dead Kennedy´s a The Who\, a výsledkem pak bylo typicky české pojetí hard core - velmi rychlé a krátké palby s hospodskou tématikou....jedna z nejdivočejších českých HC-crossoverových part\, před revolucí téměř kultovní soubor všech ochmelků\, grázlů a jiných pochybných existencí. Na jejich koncerty chodili svorně a pospolu máničky\, punkeři i skini a nebylo mezi nimi žádných bouří. Pikantní na celé historii kapely je\, že hraje stále ve stejné sestavě a se stále stejným nasazením!
LOCATION:Uherské Hradiště
END:VEVENT
END:VCALENDAR