BEGIN:VCALENDAR
VERSION:2.0
CALSCALE:GREGORIAN
PRODID:-//MyApp//Calendar 1.0//EN
BEGIN:VEVENT
METHOD:PUBLISH
UID:59378@regionalniportaly.cz
DTSTAMP:20260424T130317Z
DTSTART;VALUE=DATE:20251102
DTEND;VALUE=DATE:20251103
SUMMARY:Záplaťák - film pro děti
DESCRIPTION:Záplaťák je nový animovaný film na motivy dětských knih Guye Basse. Film v režii Steva Hudsona vypráví o malém stvoření jménem Záplaťák\, které na hradě Groteskin probudí šílený profesor. Úkolem Záplaťáka je chránit další profesorovy obludné výtvory před obyvateli městečka Drbákov. Na hradě panuje skvělá nálada\, ale to jen do okamžiku\, než se zlý ředitel krachujícího cirkusu dozví\, že na hradě straší\, a přemýšlí\, jak na příšerkách zbohatne.\n \nPřístupný / 2025 / Velká Británie\, Německo\, Lucembursko\, Francie / rodinný animovaný / Režie: Steve Hudson\n \nVstupné: 130 KčVstupenky v předprodeji online nebo půl hodiny před filmem. 
LOCATION:Strážnice
END:VEVENT
END:VCALENDAR