BEGIN:VCALENDAR
VERSION:2.0
CALSCALE:GREGORIAN
PRODID:-//MyApp//Calendar 1.0//EN
BEGIN:VEVENT
METHOD:PUBLISH
UID:59379@regionalniportaly.cz
DTSTAMP:20260424T155315Z
DTSTART;VALUE=DATE:20251102
DTEND;VALUE=DATE:20251103
SUMMARY:Uzel zla - kino
DESCRIPTION:Po smrti milované manželky se osmdesátiletý Vavřinec Novotný cítí osaměle. Aby stmelil svou rozvětvenou\, ale odcizenou rodinu\, vymyslí neobvyklý plán: prodá rodinný majetek – Slánskou horu – a vyhlásí soutěž.\n \nVstupné: 140 KčVstupenky v předprodeji online nebo půl hodiny před filmem.\nVíce na: www.kd-straznice.cz 
LOCATION:Strážnice
END:VEVENT
END:VCALENDAR