BEGIN:VCALENDAR
VERSION:2.0
CALSCALE:GREGORIAN
PRODID:-//MyApp//Calendar 1.0//EN
BEGIN:VEVENT
METHOD:PUBLISH
UID:59380@regionalniportaly.cz
DTSTAMP:20260424T160117Z
DTSTART;VALUE=DATE:20251104
DTEND;VALUE=DATE:20251105
SUMMARY:Nepela - kino
DESCRIPTION:Krasobruslař Ondrej Nepela se vrací z olympijských her se zlatou medailí na krku. Čeká na něj obdiv fanoušků a československá realita. Slavný\, citlivý a nejistý sportovec hledá cestu do prostoru\, v němž by konečně mohl být sám sebou.\n \nVstupné: 150 KčVstupenky v předprodeji online nebo půl hodiny před filmem.\nVíce na: www.kd-straznice.cz 
LOCATION:Strážnice
END:VEVENT
END:VCALENDAR