BEGIN:VCALENDAR
VERSION:2.0
CALSCALE:GREGORIAN
PRODID:-//MyApp//Calendar 1.0//EN
BEGIN:VEVENT
METHOD:PUBLISH
UID:59382@regionalniportaly.cz
DTSTAMP:20260424T155220Z
DTSTART;VALUE=DATE:20251111
DTEND;VALUE=DATE:20251112
SUMMARY:Virtuální přítelkyně
DESCRIPTION:Jak doopravdy žijí ženy\, které na platformě OnlyFans vydělávají miliony díky provokativnímu erotickému obsahu? Nabízejí svým fanouškům jen uspokojení\, nebo jim nahrazují skutečnou lásku? A co na jejich práci říkají partneři\, rodina či nejbližší okolí?\n \nPřístupnost 15+ / PREMIÉRA / Česko / dokument / Česky / Režie: Barbora Chalupová \n \nVstupné: 140 KčVstupenky v předprodeji online nebo půl hodiny před filmem.\nVíce na: www.kd-straznice.cz \n 
LOCATION:Strážnice
END:VEVENT
END:VCALENDAR