BEGIN:VCALENDAR
VERSION:2.0
CALSCALE:GREGORIAN
PRODID:-//MyApp//Calendar 1.0//EN
BEGIN:VEVENT
METHOD:PUBLISH
UID:59384@regionalniportaly.cz
DTSTAMP:20260424T183822Z
DTSTART;VALUE=DATE:20251116
DTEND;VALUE=DATE:20251117
SUMMARY:Jedna bitva za druhou
DESCRIPTION:Když se po 16 letech znovu objeví jejich úhlavní nepřítel\, skupina bývalých revolucionářů se znovu sejde\, aby zachránila dceru jednoho z nich.\n \nPřístupnost 15+ / 2025 / USA / akční\, thriller / titulky / Režie:  Paul Thomas Anderson\n \nVstupné: 130 KčVstupenky v předprodeji online nebo půl hodiny před filmem.\nVíce na www.kd-straznice.cz 
LOCATION:Strážnice
END:VEVENT
END:VCALENDAR