BEGIN:VCALENDAR
VERSION:2.0
CALSCALE:GREGORIAN
PRODID:-//MyApp//Calendar 1.0//EN
BEGIN:VEVENT
METHOD:PUBLISH
UID:59385@regionalniportaly.cz
DTSTAMP:20260424T183918Z
DTSTART;VALUE=DATE:20251118
DTEND;VALUE=DATE:20251119
SUMMARY:Stvůry film
DESCRIPTION:Napínavý filmový příběh\, na jehož počátku stojí brutální vražda mladé studentky\, diváky zavede do syrového prostředí městečka kdesi na severu.\n \nPřístupnost 15+ / PREMIÉRA / Česko / kriminální\, thriller / Režie:  Jan Těšitel\n \nVstupné: 150 Kč\nVstupenky v předprodeji online nebo půl hodiny před filmem.\nVíce na www.kd-straznice.cz 
LOCATION:Strážnice
END:VEVENT
END:VCALENDAR