BEGIN:VCALENDAR
VERSION:2.0
CALSCALE:GREGORIAN
PRODID:-//MyApp//Calendar 1.0//EN
BEGIN:VEVENT
METHOD:PUBLISH
UID:59386@regionalniportaly.cz
DTSTAMP:20260424T153402Z
DTSTART;VALUE=DATE:20251119
DTEND;VALUE=DATE:20251120
SUMMARY:Něco za něco
DESCRIPTION:Dva manželské páry vyrazí na chatu užít si volný víkend\, když manželka položí svému muži jednu zásadní otázku. Nic už pak nebude jako dřív. Jak kdo zareaguje a odjedou dvojice zpátky tak\, jak přijely?\n \nPřístupnost 12+ / PREMIÉRA / Česko / komedie\, drama / Režie: Matěj Pichler\n \nVstupné: 80 KčVstupenky v předprodeji online nebo půl hodiny před filmem.\nVíce na www.kd-straznice.cz 
LOCATION:Strážnice
END:VEVENT
END:VCALENDAR