BEGIN:VCALENDAR
VERSION:2.0
CALSCALE:GREGORIAN
PRODID:-//MyApp//Calendar 1.0//EN
BEGIN:VEVENT
METHOD:PUBLISH
UID:59387@regionalniportaly.cz
DTSTAMP:20260424T184158Z
DTSTART;VALUE=DATE:20251119
DTEND;VALUE=DATE:20251120
SUMMARY:Dracula: příběh lásky
DESCRIPTION:Legendární Luc Besson vypráví nesmrtelný příbeh věčného hledání lásky napříč staletími. V 15. století přichází kníže Vlad o svou milovanou ženu. Ve chvíli zoufalství se odvrací od Boha a přijímá prokletí nesmrtelnosti.\n \nPřístupnost 12+ / PREMIÉRA / Francie / romantický\, horor / Režie:  Luc Besson\n \nVstupné: 140 Kč\nVstupenky v předprodeji online nebo půl hodiny před filmem.\nVíce na www.kd-straznice.cz 
LOCATION:Strážnice
END:VEVENT
END:VCALENDAR