BEGIN:VCALENDAR
VERSION:2.0
CALSCALE:GREGORIAN
PRODID:-//MyApp//Calendar 1.0//EN
BEGIN:VEVENT
METHOD:PUBLISH
UID:59562@regionalniportaly.cz
DTSTAMP:20260419T160116Z
DTSTART;VALUE=DATE:20260528
DTEND;VALUE=DATE:20260529
SUMMARY:Travesti Divoké kočky Staré Město
DESCRIPTION:Travesti skupina&nbsp\;Divoké kočky&nbsp\;z Ostravy přijíždí s celovečerním&nbsp\;programem&nbsp\;do Starého Města u Uherského Hradiště\, kde vystoupí 28. května&nbsp\;2026 od 19:00&nbsp\;na sále Sportovního a kulturního centra. Předprodej vstupenek zahájen&nbsp\;v síti smsticket.czCelovečerní zábavný program je plný nezapomenutelných legračních scének\, písniček\, známých zpěvaček\, krásných kostýmů\, situačního humoru\, smíchu a je vhodný jak pro ženské tak pánské publikum. Jejich vystoupení se těší stálé větší oblibě a tak si každý divák přijde na své.Přijdte se sami přesvědčit\, že na travesti představení není nic špatného a v podání ostravských umělců se budete určitě dobře bavit. Divoké kočky&nbsp\;se těší opět na úžasné místní publikum\, atmosféru a skvělý večer\, který vždy zaplněný sál diváků vytvoří. Přijďte se pobavit i Vy.Na závěr programu Vám členové souboru ukážou svou pravou tvář. Délka představení s přestávkou 180 min.
LOCATION:Staré Město
END:VEVENT
END:VCALENDAR