BEGIN:VCALENDAR
VERSION:2.0
CALSCALE:GREGORIAN
PRODID:-//MyApp//Calendar 1.0//EN
BEGIN:VEVENT
METHOD:PUBLISH
UID:59915@regionalniportaly.cz
DTSTAMP:20260422T042055Z
DTSTART;VALUE=DATE:20260221
DTEND;VALUE=DATE:20260222
SUMMARY:Debustrol
DESCRIPTION:Není větší legendy v oblasti thrash metalu&nbsp\; !Kolins a jeho ostrá parta to rozbalí tradičně&nbsp\;v únoru a bude to exkluzivní jízda ! A to už jen proto\,že zahrají nezvykle dlouhý koncert jakožto průřez svou dosavadní tvorbou a dají si extra záležet na všech jednotlivých aspektech koncertního show.Nažhavená motorová pila \,&nbsp\;ještě víc žhavé kytary a nekompromisní bicí.
LOCATION:Uherské Hradiště
END:VEVENT
END:VCALENDAR