BEGIN:VCALENDAR
VERSION:2.0
CALSCALE:GREGORIAN
PRODID:-//MyApp//Calendar 1.0//EN
BEGIN:VEVENT
METHOD:PUBLISH
UID:59959@regionalniportaly.cz
DTSTAMP:20260424T112746Z
DTSTART;VALUE=DATE:20251220
DTEND;VALUE=DATE:20251221
SUMMARY:Evil Death Fest 2025
DESCRIPTION:Tradiční předvánoční metalový koncert\, který bývá ukončením koncertní sezóny domácí pořadatelské skupiny HYPNOS.Dále vystoupí Bestial Therapy\, Neurotic Machinery\, Nahum a Inferno.
LOCATION:Uherské Hradiště
END:VEVENT
END:VCALENDAR