BEGIN:VCALENDAR
VERSION:2.0
CALSCALE:GREGORIAN
PRODID:-//MyApp//Calendar 1.0//EN
BEGIN:VEVENT
METHOD:PUBLISH
UID:60004@regionalniportaly.cz
DTSTAMP:20260424T125206Z
DTSTART;VALUE=DATE:20260116
DTEND;VALUE=DATE:20260117
SUMMARY:Zimní Záviš
DESCRIPTION:Pro velkou oblibu mistra\, jsme se rozhodli uspořádat zimní edici jeho koncertní show.Stavte se užít lednovou povánoční pornoatmosféru s knížetem.Vstup: 250\,-/předprodej\, 300\,-/na místě
LOCATION:Uherský Brod
END:VEVENT
END:VCALENDAR