BEGIN:VCALENDAR
VERSION:2.0
CALSCALE:GREGORIAN
PRODID:-//MyApp//Calendar 1.0//EN
BEGIN:VEVENT
METHOD:PUBLISH
UID:60010@regionalniportaly.cz
DTSTAMP:20260424T142440Z
DTSTART;VALUE=DATE:20251227
DTEND;VALUE=DATE:20251228
SUMMARY:Švihadlo & Reggay Band
DESCRIPTION:Jamajský večírek s legendami a domorodci. Bude to strašné!!!Švihadlo a jejich hity určitě všichni znáte ...Kapela Švihadlo je již čtyřicet let vytrvalým zástupcem reggae v Čechách (založena v roce 1983 v Mladé Boleslavi). Kapela vytrvale objíždí kluby a festivaly v České republice a na Slovensku\, koncertovala i v okolních zemích (Polsko\, Německo\, Rakousko\, Maďarsko\, Slovinsko\, Chorvatsko) a dokonce i v Číně.Za dobu své existence vydala několik alb a v současné době připravuje další.V současnosti osmičlenná až dvacetičlenná formace překračující hranice valašsko-slováckého babylonu a tvořící vlastní písně různých odnoží reggae\, ska a latino. Kapela má za sebou více než patnáctiletou historii a stovky koncertů nejen po celé ČR\, ale i zahraniční štace do Rakouska\, Polska\, Itálie a Slovenska. V roce 2021 prosákla tvorba kapely na všechny digitální hudební platformy\, kde můžete ochutnat jak novinky\, tak i starší vály. Se zhoršenou epidemickou situací se Reggay vypořádal natočením epické fošny a vzniklo tak CD Let's Party. O téměř rok později se kapela znovu zavřela do útrob atomového bunkru se studiem a nasázela 3 nové pecky takzvaně na 'JUST ONE TAKE'. Chcete-li opravdu poznat co je Reggay\, je třeba osobně zavítat na některou koncertní událost. Jen tam si to pořádně užijete! Navíc podstatnou část vystoupení tvoří novinky\, které si nikde jinde nepustíte.&nbsp\;Vstup: 250\,- předprodej\, 300\,- na místě
LOCATION:Uherský Brod
END:VEVENT
END:VCALENDAR