BEGIN:VCALENDAR
VERSION:2.0
CALSCALE:GREGORIAN
PRODID:-//MyApp//Calendar 1.0//EN
BEGIN:VEVENT
METHOD:PUBLISH
UID:60107@regionalniportaly.cz
DTSTAMP:20260422T044907Z
DTSTART;VALUE=DATE:20260130
DTEND;VALUE=DATE:20260131
SUMMARY:KARLO & FOBIA KID
DESCRIPTION:!!! KARLO a FOBIA KID v Uherském Hradišti !!!Tito dva legendární rapeři dorazí do klubu MÍR. Nenech si ujít tuto velkolepou show. O warm up se postará raper GRINGO QURIO a afterku v podobě DNB zajistí MYSLO CRUE.Nenech se ochudit o tento speciální zážitek.Budeme se na Vás těšit 30.1.2026.
LOCATION:Uherské Hradiště
END:VEVENT
END:VCALENDAR