BEGIN:VCALENDAR
VERSION:2.0
CALSCALE:GREGORIAN
PRODID:-//MyApp//Calendar 1.0//EN
BEGIN:VEVENT
METHOD:PUBLISH
UID:60210@regionalniportaly.cz
DTSTAMP:20260424T171916Z
DTSTART;VALUE=DATE:20251221
DTEND;VALUE=DATE:20251222
SUMMARY:Vánoční koncert
DESCRIPTION:Vánoční koncerty Pěveckého sboru Dvořák se konají od roku 1978 a staly se&nbsp\;hluboce zakořeněnou tradicí v Uherském Brodě i v celém regionu a také na blízkém Slovensku.&nbsp\;Účinkují:Pěvecký sbor DvořákKomorní sbor DvořákSólo:&nbsp\;Kateřina Knapová\, Štěpán Binar\, Ctibor BoráňSaxofon: David VaněkTrubka: Jakub Pavelka\, Radovan DufkaKlarinet: Teodor KadlčekPříčná flétna: Barbora MatějováVarhany: Jaroslav ŠmilauerKlavír: Jan BěhalBicí: František BobčíkDirigent: Petr Kučera&nbsp\;
LOCATION:Uherský Brod
END:VEVENT
END:VCALENDAR