BEGIN:VCALENDAR
VERSION:2.0
CALSCALE:GREGORIAN
PRODID:-//MyApp//Calendar 1.0//EN
BEGIN:VEVENT
METHOD:PUBLISH
UID:60315@regionalniportaly.cz
DTSTAMP:20260424T112811Z
DTSTART;VALUE=DATE:20251209
DTEND;VALUE=DATE:20251210
SUMMARY:Neporazitelní
DESCRIPTION:Přístupný / 2025 / Česko / drama\, trhiller / Režie: Dan Pánek / délka: 118 min.  Celovečerní film o vztazích\, životních pádech\, výzvách a síle lidské motivace. Ve snímku Neporazitelní\, který byl inspirován skutečnými událostmi\, svede náhoda dohromady tři zcela odlišné hrdiny\, kteří řeší nelehké životní situace. S nepřízní osudu ale bojují mnohdy s humorem\, což diváky rozesměje i dojme zároveň. Majitel úspěšné reklamní agentury Petr Fišer (Hynek Čermák)\, který nezná slovo „nemožné“\, věří\, že má plán\, jak zachránit svou rodinu. Podivínský trenér Robert „Bob“ Krulich (Ivan Trojan) ukončil kariéru\, protože "jeho svět" je na pokraji zániku. Nadějný sportovec Radim Musil (Tomáš Havlínek) je při obraně napadeného muže pobodán útočníky. Inspirativní film o plnění snů a využití druhých šancí\, které nám život nabízí\, se odehrává na pozadí výjimečné světové události a ukazuje\, že s nadhledem a humorem se dá vyhrát jakákoli životní bitva.\n \nVstupné: 150 Kč\nVstupenky v předprodeji online nebo půl hodiny před filmem.
LOCATION:Strážnice
END:VEVENT
END:VCALENDAR