BEGIN:VCALENDAR
VERSION:2.0
CALSCALE:GREGORIAN
PRODID:-//MyApp//Calendar 1.0//EN
BEGIN:VEVENT
METHOD:PUBLISH
UID:60316@regionalniportaly.cz
DTSTAMP:20260424T113300Z
DTSTART;VALUE=DATE:20251210
DTEND;VALUE=DATE:20251211
SUMMARY:Nepela - film
DESCRIPTION:Přístupnost 12+ / PREMIÉRA / Slovensko\, Česko\, Polsko / drama\, životopisný / Slovensky / Režie: Gregor Valentovič\nKrasobruslař Ondrej Nepela se vrací z olympijských her se zlatou medailí na krku. Čeká na něj obdiv fanoušků a československá realita. Slavný\, citlivý a nejistý sportovec hledá cestu do prostoru\, v němž by konečně mohl být sám sebou.\n \nVstupné: 150 KčVstupenky v předprodeji online nebo půl hodiny před filmem.
LOCATION:Strážnice
END:VEVENT
END:VCALENDAR