BEGIN:VCALENDAR
VERSION:2.0
CALSCALE:GREGORIAN
PRODID:-//MyApp//Calendar 1.0//EN
BEGIN:VEVENT
METHOD:PUBLISH
UID:60317@regionalniportaly.cz
DTSTAMP:20260422T090114Z
DTSTART;VALUE=DATE:20251210
DTEND;VALUE=DATE:20251211
SUMMARY:Podfukáři 3
DESCRIPTION:Přístupnost 12+ / 2025 / USA / krminální\, trhiller / Režie: Ruben Fleischer / délka: 112min. \nZmizeli\, jen aby se znovu vrátili. Podfukáři přichází se třetí loupeží\, která všem vyrazí dech. A ke svým dalším neuvěřitelným kouskům si skupina iluzionistů známá pod názvem Čtyři jezdci přizve posilu. \n \nVstupné: 150 Kč\nVstupenky v předprodeji online nebo půl hodiny před filmem.
LOCATION:Strážnice
END:VEVENT
END:VCALENDAR