BEGIN:VCALENDAR
VERSION:2.0
CALSCALE:GREGORIAN
PRODID:-//MyApp//Calendar 1.0//EN
BEGIN:VEVENT
METHOD:PUBLISH
UID:60318@regionalniportaly.cz
DTSTAMP:20260422T174653Z
DTSTART;VALUE=DATE:20251213
DTEND;VALUE=DATE:20251214
SUMMARY:Na horách - komedie
DESCRIPTION:Přístupný / 2025 / Česko / romantická komedie / Režie: Rudolf Havlík  / délka: 117min. \nRomantická komedie o nečekaném setkání a sebepoznání v nádherné horské krajině.\n \nVstupné: 150 Kč\nVstupenky v předprodeji online nebo půl hodiny před filmem.
LOCATION:Strážnice
END:VEVENT
END:VCALENDAR