BEGIN:VCALENDAR
VERSION:2.0
CALSCALE:GREGORIAN
PRODID:-//MyApp//Calendar 1.0//EN
BEGIN:VEVENT
METHOD:PUBLISH
UID:60325@regionalniportaly.cz
DTSTAMP:20260422T150744Z
DTSTART;VALUE=DATE:20251129
DTEND;VALUE=DATE:20251130
SUMMARY:Radujme se\, veselme se… ve Skanzenu Strážnice
DESCRIPTION:Nenechte si ujít jedinečnou příležitost prožít začátek adventu tak\, jak jej znaly generace našich předků. \nSkanzen ve Strážnici vás srdečně zve na tradiční předvánoční program „Radujme se\, veselme se…“\, který každoročně připadá na poslední listopadovou sobotu a první adventní neděli\, tedy 29. a 30. listopadu v čase od 9 do 16 hod.\nVíce na stránkách https://www.skanzenstraznice.cz/.\nAdresa: Bzenecká 1510\, 696 62 Strážnice.\n 
LOCATION:Strážnice
END:VEVENT
END:VCALENDAR