BEGIN:VCALENDAR
VERSION:2.0
CALSCALE:GREGORIAN
PRODID:-//MyApp//Calendar 1.0//EN
BEGIN:VEVENT
METHOD:PUBLISH
UID:60354@regionalniportaly.cz
DTSTAMP:20260424T095754Z
DTSTART;VALUE=DATE:20251223
DTEND;VALUE=DATE:20251224
SUMMARY:SLAM Poetry EXHIBICE
DESCRIPTION:Slam v příkře předvánočním termínu bere Hradiště ztečí s intenzitou Korvínových Uhrů pozdního 15. století\, aby odloudil všechny kulturymilovné od zdobení stromků a čučení na pohádky... Hurrrá!!! Slamáci a slamačky se prej těšej!!!"Slam cooo?"Performativní žánr přednesu autorské poezie. Žádné kostýmy. Ani rekvizity. Vlastní text. Nebo improvizace. Dojetí! Smích? Dekadence?! A body publika! Slam!!!
LOCATION:Uherské Hradiště
END:VEVENT
END:VCALENDAR